BEGIN:VCALENDAR
VERSION:2.0
PRODID:http://sb-bamberger-osten.de
BEGIN:VEVENT
UID:ae4135d4-3972-11f1-a8bf-0242ac11002b-1778738400000-de
DTSTAMP:20260416T090013Z
DTSTART:20260514T060000Z
DTEND:20260514T070000Z
SUMMARY;LANGUAGE=de:Festgottesdienst anschl. Flurumgang
END:VEVENT
END:VCALENDAR
