BEGIN:VCALENDAR
VERSION:2.0
PRODID:http://sb-bamberger-osten.de
BEGIN:VEVENT
UID:b66207fa-2b4d-11f1-a15b-0242ac11002b-1777194000000-de
DTSTAMP:20260329T090019Z
DTSTART:20260426T090000Z
DTEND:20260426T100000Z
SUMMARY;LANGUAGE=de:Pfarrgottesdienst / Gestalteter Gottesdienst
DESCRIPTION;LANGUAGE=de:musikalische Begleitung mit der Band "Variabel"
END:VEVENT
END:VCALENDAR
